BEGIN:VCALENDAR
VERSION:2.0
PRODID:-//OZARIN - ECPv6.15.18//NONSGML v1.0//EN
CALSCALE:GREGORIAN
METHOD:PUBLISH
X-WR-CALNAME:OZARIN
X-ORIGINAL-URL:https://ozarin.com
X-WR-CALDESC:Events for OZARIN
REFRESH-INTERVAL;VALUE=DURATION:PT1H
X-Robots-Tag:noindex
X-PUBLISHED-TTL:PT1H
BEGIN:VTIMEZONE
TZID:Asia/Tokyo
BEGIN:STANDARD
TZOFFSETFROM:+0900
TZOFFSETTO:+0900
TZNAME:JST
DTSTART:20250101T000000
END:STANDARD
END:VTIMEZONE
BEGIN:VEVENT
DTSTART;VALUE=DATE:20260220
DTEND;VALUE=DATE:20260221
DTSTAMP:20260420T161810
CREATED:20260403T075129Z
LAST-MODIFIED:20260403T075129Z
UID:40856-1771545600-1771631999@ozarin.com
SUMMARY:Express Car Wash Simulator
DESCRIPTION:Check the latest prices on Amazon. If you pre-order and purchase using our links\, you’re helping to support the site! 
URL:https://ozarin.com/event/express-car-wash-simulator-2026-02-20-1836/
CATEGORIES:Game release
ATTACH;FMTTYPE=image/jpeg:https://ozarin.com/wp-content/uploads/2026/04/co8zmy-783.jpg
END:VEVENT
BEGIN:VEVENT
DTSTART;VALUE=DATE:20260220
DTEND;VALUE=DATE:20260221
DTSTAMP:20260420T161810
CREATED:20260403T074633Z
LAST-MODIFIED:20260403T074633Z
UID:40846-1771545600-1771631999@ozarin.com
SUMMARY:Express Car Wash Simulator
DESCRIPTION:Check the latest prices on Amazon. If you pre-order and purchase using our links\, you’re helping to support the site! 
URL:https://ozarin.com/event/express-car-wash-simulator-2026-02-20-1835/
CATEGORIES:Game release
ATTACH;FMTTYPE=image/jpeg:https://ozarin.com/wp-content/uploads/2026/04/co8zmy-782.jpg
END:VEVENT
BEGIN:VEVENT
DTSTART;VALUE=DATE:20260220
DTEND;VALUE=DATE:20260221
DTSTAMP:20260420T161810
CREATED:20260403T074136Z
LAST-MODIFIED:20260403T074136Z
UID:40836-1771545600-1771631999@ozarin.com
SUMMARY:Express Car Wash Simulator
DESCRIPTION:Check the latest prices on Amazon. If you pre-order and purchase using our links\, you’re helping to support the site! 
URL:https://ozarin.com/event/express-car-wash-simulator-2026-02-20-1834/
CATEGORIES:Game release
ATTACH;FMTTYPE=image/jpeg:https://ozarin.com/wp-content/uploads/2026/04/co8zmy-781.jpg
END:VEVENT
BEGIN:VEVENT
DTSTART;VALUE=DATE:20260220
DTEND;VALUE=DATE:20260221
DTSTAMP:20260420T161810
CREATED:20260403T073636Z
LAST-MODIFIED:20260403T073636Z
UID:40826-1771545600-1771631999@ozarin.com
SUMMARY:Express Car Wash Simulator
DESCRIPTION:Check the latest prices on Amazon. If you pre-order and purchase using our links\, you’re helping to support the site! 
URL:https://ozarin.com/event/express-car-wash-simulator-2026-02-20-1833/
CATEGORIES:Game release
ATTACH;FMTTYPE=image/jpeg:https://ozarin.com/wp-content/uploads/2026/04/co8zmy-780.jpg
END:VEVENT
BEGIN:VEVENT
DTSTART;VALUE=DATE:20260220
DTEND;VALUE=DATE:20260221
DTSTAMP:20260420T161810
CREATED:20260403T073143Z
LAST-MODIFIED:20260403T073143Z
UID:40816-1771545600-1771631999@ozarin.com
SUMMARY:Express Car Wash Simulator
DESCRIPTION:Check the latest prices on Amazon. If you pre-order and purchase using our links\, you’re helping to support the site! 
URL:https://ozarin.com/event/express-car-wash-simulator-2026-02-20-1832/
CATEGORIES:Game release
ATTACH;FMTTYPE=image/jpeg:https://ozarin.com/wp-content/uploads/2026/04/co8zmy-779.jpg
END:VEVENT
BEGIN:VEVENT
DTSTART;VALUE=DATE:20260220
DTEND;VALUE=DATE:20260221
DTSTAMP:20260420T161810
CREATED:20260403T072636Z
LAST-MODIFIED:20260403T072636Z
UID:40806-1771545600-1771631999@ozarin.com
SUMMARY:Express Car Wash Simulator
DESCRIPTION:Check the latest prices on Amazon. If you pre-order and purchase using our links\, you’re helping to support the site! 
URL:https://ozarin.com/event/express-car-wash-simulator-2026-02-20-1831/
CATEGORIES:Game release
ATTACH;FMTTYPE=image/jpeg:https://ozarin.com/wp-content/uploads/2026/04/co8zmy-778.jpg
END:VEVENT
BEGIN:VEVENT
DTSTART;VALUE=DATE:20260220
DTEND;VALUE=DATE:20260221
DTSTAMP:20260420T161810
CREATED:20260403T072134Z
LAST-MODIFIED:20260403T072134Z
UID:40796-1771545600-1771631999@ozarin.com
SUMMARY:Express Car Wash Simulator
DESCRIPTION:Check the latest prices on Amazon. If you pre-order and purchase using our links\, you’re helping to support the site! 
URL:https://ozarin.com/event/express-car-wash-simulator-2026-02-20-1830/
CATEGORIES:Game release
ATTACH;FMTTYPE=image/jpeg:https://ozarin.com/wp-content/uploads/2026/04/co8zmy-777.jpg
END:VEVENT
BEGIN:VEVENT
DTSTART;VALUE=DATE:20260220
DTEND;VALUE=DATE:20260221
DTSTAMP:20260420T161810
CREATED:20260403T071636Z
LAST-MODIFIED:20260403T071636Z
UID:40786-1771545600-1771631999@ozarin.com
SUMMARY:Express Car Wash Simulator
DESCRIPTION:Check the latest prices on Amazon. If you pre-order and purchase using our links\, you’re helping to support the site! 
URL:https://ozarin.com/event/express-car-wash-simulator-2026-02-20-1829/
CATEGORIES:Game release
ATTACH;FMTTYPE=image/jpeg:https://ozarin.com/wp-content/uploads/2026/04/co8zmy-776.jpg
END:VEVENT
BEGIN:VEVENT
DTSTART;VALUE=DATE:20260220
DTEND;VALUE=DATE:20260221
DTSTAMP:20260420T161810
CREATED:20260403T071133Z
LAST-MODIFIED:20260403T071133Z
UID:40776-1771545600-1771631999@ozarin.com
SUMMARY:Express Car Wash Simulator
DESCRIPTION:Check the latest prices on Amazon. If you pre-order and purchase using our links\, you’re helping to support the site! 
URL:https://ozarin.com/event/express-car-wash-simulator-2026-02-20-1828/
CATEGORIES:Game release
ATTACH;FMTTYPE=image/jpeg:https://ozarin.com/wp-content/uploads/2026/04/co8zmy-775.jpg
END:VEVENT
BEGIN:VEVENT
DTSTART;VALUE=DATE:20260220
DTEND;VALUE=DATE:20260221
DTSTAMP:20260420T161810
CREATED:20260403T070636Z
LAST-MODIFIED:20260403T070636Z
UID:40766-1771545600-1771631999@ozarin.com
SUMMARY:Express Car Wash Simulator
DESCRIPTION:Check the latest prices on Amazon. If you pre-order and purchase using our links\, you’re helping to support the site! 
URL:https://ozarin.com/event/express-car-wash-simulator-2026-02-20-1827/
CATEGORIES:Game release
ATTACH;FMTTYPE=image/jpeg:https://ozarin.com/wp-content/uploads/2026/04/co8zmy-774.jpg
END:VEVENT
BEGIN:VEVENT
DTSTART;VALUE=DATE:20260220
DTEND;VALUE=DATE:20260221
DTSTAMP:20260420T161810
CREATED:20260403T070149Z
LAST-MODIFIED:20260403T070149Z
UID:40756-1771545600-1771631999@ozarin.com
SUMMARY:Express Car Wash Simulator
DESCRIPTION:Check the latest prices on Amazon. If you pre-order and purchase using our links\, you’re helping to support the site! 
URL:https://ozarin.com/event/express-car-wash-simulator-2026-02-20-1826/
CATEGORIES:Game release
ATTACH;FMTTYPE=image/jpeg:https://ozarin.com/wp-content/uploads/2026/04/co8zmy-773.jpg
END:VEVENT
BEGIN:VEVENT
DTSTART;VALUE=DATE:20260220
DTEND;VALUE=DATE:20260221
DTSTAMP:20260420T161810
CREATED:20260403T065637Z
LAST-MODIFIED:20260403T065637Z
UID:40746-1771545600-1771631999@ozarin.com
SUMMARY:Express Car Wash Simulator
DESCRIPTION:Check the latest prices on Amazon. If you pre-order and purchase using our links\, you’re helping to support the site! 
URL:https://ozarin.com/event/express-car-wash-simulator-2026-02-20-1825/
CATEGORIES:Game release
ATTACH;FMTTYPE=image/jpeg:https://ozarin.com/wp-content/uploads/2026/04/co8zmy-772.jpg
END:VEVENT
BEGIN:VEVENT
DTSTART;VALUE=DATE:20260220
DTEND;VALUE=DATE:20260221
DTSTAMP:20260420T161810
CREATED:20260403T065139Z
LAST-MODIFIED:20260403T065139Z
UID:40736-1771545600-1771631999@ozarin.com
SUMMARY:Express Car Wash Simulator
DESCRIPTION:Check the latest prices on Amazon. If you pre-order and purchase using our links\, you’re helping to support the site! 
URL:https://ozarin.com/event/express-car-wash-simulator-2026-02-20-1824/
CATEGORIES:Game release
ATTACH;FMTTYPE=image/jpeg:https://ozarin.com/wp-content/uploads/2026/04/co8zmy-771.jpg
END:VEVENT
BEGIN:VEVENT
DTSTART;VALUE=DATE:20260220
DTEND;VALUE=DATE:20260221
DTSTAMP:20260420T161810
CREATED:20260403T064632Z
LAST-MODIFIED:20260403T064632Z
UID:40726-1771545600-1771631999@ozarin.com
SUMMARY:Express Car Wash Simulator
DESCRIPTION:Check the latest prices on Amazon. If you pre-order and purchase using our links\, you’re helping to support the site! 
URL:https://ozarin.com/event/express-car-wash-simulator-2026-02-20-1823/
CATEGORIES:Game release
ATTACH;FMTTYPE=image/jpeg:https://ozarin.com/wp-content/uploads/2026/04/co8zmy-770.jpg
END:VEVENT
BEGIN:VEVENT
DTSTART;VALUE=DATE:20260220
DTEND;VALUE=DATE:20260221
DTSTAMP:20260420T161810
CREATED:20260403T064133Z
LAST-MODIFIED:20260403T064133Z
UID:40716-1771545600-1771631999@ozarin.com
SUMMARY:Express Car Wash Simulator
DESCRIPTION:Check the latest prices on Amazon. If you pre-order and purchase using our links\, you’re helping to support the site! 
URL:https://ozarin.com/event/express-car-wash-simulator-2026-02-20-1822/
CATEGORIES:Game release
ATTACH;FMTTYPE=image/jpeg:https://ozarin.com/wp-content/uploads/2026/04/co8zmy-769.jpg
END:VEVENT
BEGIN:VEVENT
DTSTART;VALUE=DATE:20260220
DTEND;VALUE=DATE:20260221
DTSTAMP:20260420T161810
CREATED:20260403T063637Z
LAST-MODIFIED:20260403T063637Z
UID:40706-1771545600-1771631999@ozarin.com
SUMMARY:Express Car Wash Simulator
DESCRIPTION:Check the latest prices on Amazon. If you pre-order and purchase using our links\, you’re helping to support the site! 
URL:https://ozarin.com/event/express-car-wash-simulator-2026-02-20-1821/
CATEGORIES:Game release
ATTACH;FMTTYPE=image/jpeg:https://ozarin.com/wp-content/uploads/2026/04/co8zmy-768.jpg
END:VEVENT
BEGIN:VEVENT
DTSTART;VALUE=DATE:20260220
DTEND;VALUE=DATE:20260221
DTSTAMP:20260420T161810
CREATED:20260403T063137Z
LAST-MODIFIED:20260403T063137Z
UID:40696-1771545600-1771631999@ozarin.com
SUMMARY:Express Car Wash Simulator
DESCRIPTION:Check the latest prices on Amazon. If you pre-order and purchase using our links\, you’re helping to support the site! 
URL:https://ozarin.com/event/express-car-wash-simulator-2026-02-20-1820/
CATEGORIES:Game release
ATTACH;FMTTYPE=image/jpeg:https://ozarin.com/wp-content/uploads/2026/04/co8zmy-767.jpg
END:VEVENT
BEGIN:VEVENT
DTSTART;VALUE=DATE:20260220
DTEND;VALUE=DATE:20260221
DTSTAMP:20260420T161810
CREATED:20260403T062633Z
LAST-MODIFIED:20260403T062633Z
UID:40686-1771545600-1771631999@ozarin.com
SUMMARY:Express Car Wash Simulator
DESCRIPTION:Check the latest prices on Amazon. If you pre-order and purchase using our links\, you’re helping to support the site! 
URL:https://ozarin.com/event/express-car-wash-simulator-2026-02-20-1819/
CATEGORIES:Game release
ATTACH;FMTTYPE=image/jpeg:https://ozarin.com/wp-content/uploads/2026/04/co8zmy-766.jpg
END:VEVENT
BEGIN:VEVENT
DTSTART;VALUE=DATE:20260220
DTEND;VALUE=DATE:20260221
DTSTAMP:20260420T161810
CREATED:20260403T062130Z
LAST-MODIFIED:20260403T062130Z
UID:40676-1771545600-1771631999@ozarin.com
SUMMARY:Express Car Wash Simulator
DESCRIPTION:Check the latest prices on Amazon. If you pre-order and purchase using our links\, you’re helping to support the site! 
URL:https://ozarin.com/event/express-car-wash-simulator-2026-02-20-1818/
CATEGORIES:Game release
ATTACH;FMTTYPE=image/jpeg:https://ozarin.com/wp-content/uploads/2026/04/co8zmy-765.jpg
END:VEVENT
BEGIN:VEVENT
DTSTART;VALUE=DATE:20260220
DTEND;VALUE=DATE:20260221
DTSTAMP:20260420T161810
CREATED:20260403T061641Z
LAST-MODIFIED:20260403T061641Z
UID:40666-1771545600-1771631999@ozarin.com
SUMMARY:Express Car Wash Simulator
DESCRIPTION:Check the latest prices on Amazon. If you pre-order and purchase using our links\, you’re helping to support the site! 
URL:https://ozarin.com/event/express-car-wash-simulator-2026-02-20-1817/
CATEGORIES:Game release
ATTACH;FMTTYPE=image/jpeg:https://ozarin.com/wp-content/uploads/2026/04/co8zmy-764.jpg
END:VEVENT
BEGIN:VEVENT
DTSTART;VALUE=DATE:20260220
DTEND;VALUE=DATE:20260221
DTSTAMP:20260420T161810
CREATED:20260403T061137Z
LAST-MODIFIED:20260403T061137Z
UID:40656-1771545600-1771631999@ozarin.com
SUMMARY:Express Car Wash Simulator
DESCRIPTION:Check the latest prices on Amazon. If you pre-order and purchase using our links\, you’re helping to support the site! 
URL:https://ozarin.com/event/express-car-wash-simulator-2026-02-20-1816/
CATEGORIES:Game release
ATTACH;FMTTYPE=image/jpeg:https://ozarin.com/wp-content/uploads/2026/04/co8zmy-763.jpg
END:VEVENT
BEGIN:VEVENT
DTSTART;VALUE=DATE:20260220
DTEND;VALUE=DATE:20260221
DTSTAMP:20260420T161810
CREATED:20260403T060635Z
LAST-MODIFIED:20260403T060635Z
UID:40646-1771545600-1771631999@ozarin.com
SUMMARY:Express Car Wash Simulator
DESCRIPTION:Check the latest prices on Amazon. If you pre-order and purchase using our links\, you’re helping to support the site! 
URL:https://ozarin.com/event/express-car-wash-simulator-2026-02-20-1815/
CATEGORIES:Game release
ATTACH;FMTTYPE=image/jpeg:https://ozarin.com/wp-content/uploads/2026/04/co8zmy-762.jpg
END:VEVENT
BEGIN:VEVENT
DTSTART;VALUE=DATE:20260220
DTEND;VALUE=DATE:20260221
DTSTAMP:20260420T161810
CREATED:20260403T060133Z
LAST-MODIFIED:20260403T060133Z
UID:40636-1771545600-1771631999@ozarin.com
SUMMARY:Express Car Wash Simulator
DESCRIPTION:Check the latest prices on Amazon. If you pre-order and purchase using our links\, you’re helping to support the site! 
URL:https://ozarin.com/event/express-car-wash-simulator-2026-02-20-1814/
CATEGORIES:Game release
ATTACH;FMTTYPE=image/jpeg:https://ozarin.com/wp-content/uploads/2026/04/co8zmy-761.jpg
END:VEVENT
BEGIN:VEVENT
DTSTART;VALUE=DATE:20260220
DTEND;VALUE=DATE:20260221
DTSTAMP:20260420T161810
CREATED:20260403T055629Z
LAST-MODIFIED:20260403T055629Z
UID:40626-1771545600-1771631999@ozarin.com
SUMMARY:Express Car Wash Simulator
DESCRIPTION:Check the latest prices on Amazon. If you pre-order and purchase using our links\, you’re helping to support the site! 
URL:https://ozarin.com/event/express-car-wash-simulator-2026-02-20-1813/
CATEGORIES:Game release
ATTACH;FMTTYPE=image/jpeg:https://ozarin.com/wp-content/uploads/2026/04/co8zmy-760.jpg
END:VEVENT
BEGIN:VEVENT
DTSTART;VALUE=DATE:20260220
DTEND;VALUE=DATE:20260221
DTSTAMP:20260420T161810
CREATED:20260403T055141Z
LAST-MODIFIED:20260403T055141Z
UID:40616-1771545600-1771631999@ozarin.com
SUMMARY:Express Car Wash Simulator
DESCRIPTION:Check the latest prices on Amazon. If you pre-order and purchase using our links\, you’re helping to support the site! 
URL:https://ozarin.com/event/express-car-wash-simulator-2026-02-20-1812/
CATEGORIES:Game release
ATTACH;FMTTYPE=image/jpeg:https://ozarin.com/wp-content/uploads/2026/04/co8zmy-759.jpg
END:VEVENT
BEGIN:VEVENT
DTSTART;VALUE=DATE:20260220
DTEND;VALUE=DATE:20260221
DTSTAMP:20260420T161810
CREATED:20260403T054630Z
LAST-MODIFIED:20260403T054630Z
UID:40606-1771545600-1771631999@ozarin.com
SUMMARY:Express Car Wash Simulator
DESCRIPTION:Check the latest prices on Amazon. If you pre-order and purchase using our links\, you’re helping to support the site! 
URL:https://ozarin.com/event/express-car-wash-simulator-2026-02-20-1811/
CATEGORIES:Game release
ATTACH;FMTTYPE=image/jpeg:https://ozarin.com/wp-content/uploads/2026/04/co8zmy-758.jpg
END:VEVENT
BEGIN:VEVENT
DTSTART;VALUE=DATE:20260220
DTEND;VALUE=DATE:20260221
DTSTAMP:20260420T161810
CREATED:20260403T054134Z
LAST-MODIFIED:20260403T054134Z
UID:40596-1771545600-1771631999@ozarin.com
SUMMARY:Express Car Wash Simulator
DESCRIPTION:Check the latest prices on Amazon. If you pre-order and purchase using our links\, you’re helping to support the site! 
URL:https://ozarin.com/event/express-car-wash-simulator-2026-02-20-1810/
CATEGORIES:Game release
ATTACH;FMTTYPE=image/jpeg:https://ozarin.com/wp-content/uploads/2026/04/co8zmy-757.jpg
END:VEVENT
BEGIN:VEVENT
DTSTART;VALUE=DATE:20260220
DTEND;VALUE=DATE:20260221
DTSTAMP:20260420T161810
CREATED:20260403T053638Z
LAST-MODIFIED:20260403T053638Z
UID:40586-1771545600-1771631999@ozarin.com
SUMMARY:Express Car Wash Simulator
DESCRIPTION:Check the latest prices on Amazon. If you pre-order and purchase using our links\, you’re helping to support the site! 
URL:https://ozarin.com/event/express-car-wash-simulator-2026-02-20-1809/
CATEGORIES:Game release
ATTACH;FMTTYPE=image/jpeg:https://ozarin.com/wp-content/uploads/2026/04/co8zmy-756.jpg
END:VEVENT
BEGIN:VEVENT
DTSTART;VALUE=DATE:20260220
DTEND;VALUE=DATE:20260221
DTSTAMP:20260420T161810
CREATED:20260403T053144Z
LAST-MODIFIED:20260403T053144Z
UID:40576-1771545600-1771631999@ozarin.com
SUMMARY:Express Car Wash Simulator
DESCRIPTION:Check the latest prices on Amazon. If you pre-order and purchase using our links\, you’re helping to support the site! 
URL:https://ozarin.com/event/express-car-wash-simulator-2026-02-20-1808/
CATEGORIES:Game release
ATTACH;FMTTYPE=image/jpeg:https://ozarin.com/wp-content/uploads/2026/04/co8zmy-755.jpg
END:VEVENT
BEGIN:VEVENT
DTSTART;VALUE=DATE:20260220
DTEND;VALUE=DATE:20260221
DTSTAMP:20260420T161810
CREATED:20260403T052638Z
LAST-MODIFIED:20260403T052638Z
UID:40566-1771545600-1771631999@ozarin.com
SUMMARY:Express Car Wash Simulator
DESCRIPTION:Check the latest prices on Amazon. If you pre-order and purchase using our links\, you’re helping to support the site! 
URL:https://ozarin.com/event/express-car-wash-simulator-2026-02-20-1807/
CATEGORIES:Game release
ATTACH;FMTTYPE=image/jpeg:https://ozarin.com/wp-content/uploads/2026/04/co8zmy-754.jpg
END:VEVENT
END:VCALENDAR